Workbook

Sheet Договір
A1: Договір і залишок: сюди вносите обсяги кожного акта
A2: Жовті клітинки заповнюєте ви, решта рахується сама. Числа в прикладі умовні: замініть їх своїми.
B3: Замовник: | C3: ТОВ «Замовник»
B4: Підрядник: | C4: ТОВ «Підрядник»
B5: Об'єкт: | C5: Житловий будинок, вул. Прикладна, 1
B6: Договір: | C6: № 1 від 01.08.2026
B7: ПДВ, %: | C7: 20
G8: Період акта: | H8: серпень 2026 | I8: вересень 2026 | J8: жовтень 2026
A9: № | B9: Найменування робіт і витрат | C9: Обґрунтування (шифр) | D9: Од. | E9: Кількість за договором | F9: Ціна за од., грн без ПДВ | G9: Вартість за договором, грн | H9: Акт 1, обсяг | I9: Акт 2, обсяг | J9: Акт 3, обсяг | K9: Акт 4, обсяг | L9: Акт 5, обсяг | M9: Акт 6, обсяг | N9: Заактовано всього | O9: Залишок | P9: Вартість заактованого, грн
A10: =IF($E10="","",ROW()-9) -> 1 | B10: Мурування стін із газобетонних блоків | D10: м³ | E10: 120 | F10: 5400 | G10: =IF($E10="","",ROUND($E10*$F10,2)) -> 648000 | H10: 40 | I10: 50 | J10: 20 | N10: =IF($E10="","",SUM(H10:M10)) -> 110 | O10: =IF($E10="","",$E10-N10) -> 10 | P10: =IF($E10="","",ROUND(N10*$F10,2)) -> 594000 | Q10: =IF(INDEX($H10:$M10,1,'Акт КБ-2в'!$C$3)<>0,MAX(Q$9:Q9)+1,"") -> 1
A11: =IF($E11="","",ROW()-9) -> 2 | B11: Штукатурка стін машинна | D11: м² | E11: 1200 | F11: 280 | G11: =IF($E11="","",ROUND($E11*$F11,2)) -> 336000 | H11: 500 | I11: 450 | J11: 300 | N11: =IF($E11="","",SUM(H11:M11)) -> 1250 | O11: =IF($E11="","",$E11-N11) -> -50 | P11: =IF($E11="","",ROUND(N11*$F11,2)) -> 350000 | Q11: =IF(INDEX($H11:$M11,1,'Акт КБ-2в'!$C$3)<>0,MAX(Q$9:Q10)+1,"") -> 2
A12: =IF($E12="","",ROW()-9) -> 3 | B12: Стяжка підлоги | D12: м² | E12: 410 | F12: 370 | G12: =IF($E12="","",ROUND($E12*$F12,2)) -> 151700 | I12: 150 | J12: 200 | N12: =IF($E12="","",SUM(H12:M12)) -> 350 | O12: =IF($E12="","",$E12-N12) -> 60 | P12: =IF($E12="","",ROUND(N12*$F12,2)) -> 129500 | Q12: =IF(INDEX($H12:$M12,1,'Акт КБ-2в'!$C$3)<>0,MAX(Q$9:Q11)+1,"") -> 3
A13: =IF($E13="","",ROW()-9) -> 4 | B13: Фарбування стін | D13: м² | E13: 1200 | F13: 125 | G13: =IF($E13="","",ROUND($E13*$F13,2)) -> 150000 | J13: 350 | N13: =IF($E13="","",SUM(H13:M13)) -> 350 | O13: =IF($E13="","",$E13-N13) -> 850 | P13: =IF($E13="","",ROUND(N13*$F13,2)) -> 43750 | Q13: =IF(INDEX($H13:$M13,1,'Акт КБ-2в'!$C$3)<>0,MAX(Q$9:Q12)+1,"") -> 4
A14: =IF($E14="","",ROW()-9) | G14: =IF($E14="","",ROUND($E14*$F14,2)) | N14: =IF($E14="","",SUM(H14:M14)) | O14: =IF($E14="","",$E14-N14) | P14: =IF($E14="","",ROUND(N14*$F14,2)) | Q14: =IF(INDEX($H14:$M14,1,'Акт КБ-2в'!$C$3)<>0,MAX(Q$9:Q13)+1,"")
A15: =IF($E15="","",ROW()-9) | G15: =IF($E15="","",ROUND($E15*$F15,2)) | N15: =IF($E15="","",SUM(H15:M15)) | O15: =IF($E15="","",$E15-N15) | P15: =IF($E15="","",ROUND(N15*$F15,2)) | Q15: =IF(INDEX($H15:$M15,1,'Акт КБ-2в'!$C$3)<>0,MAX(Q$9:Q14)+1,"")
A16: =IF($E16="","",ROW()-9) | G16: =IF($E16="","",ROUND($E16*$F16,2)) | N16: =IF($E16="","",SUM(H16:M16)) | O16: =IF($E16="","",$E16-N16) | P16: =IF($E16="","",ROUND(N16*$F16,2)) | Q16: =IF(INDEX($H16:$M16,1,'Акт КБ-2в'!$C$3)<>0,MAX(Q$9:Q15)+1,"")
A17: =IF($E17="","",ROW()-9) | G17: =IF($E17="","",ROUND($E17*$F17,2)) | N17: =IF($E17="","",SUM(H17:M17)) | O17: =IF($E17="","",$E17-N17) | P17: =IF($E17="","",ROUND(N17*$F17,2)) | Q17: =IF(INDEX($H17:$M17,1,'Акт КБ-2в'!$C$3)<>0,MAX(Q$9:Q16)+1,"")
A18: =IF($E18="","",ROW()-9) | G18: =IF($E18="","",ROUND($E18*$F18,2)) | N18: =IF($E18="","",SUM(H18:M18)) | O18: =IF($E18="","",$E18-N18) | P18: =IF($E18="","",ROUND(N18*$F18,2)) | Q18: =IF(INDEX($H18:$M18,1,'Акт КБ-2в'!$C$3)<>0,MAX(Q$9:Q17)+1,"")
A19: =IF($E19="","",ROW()-9) | G19: =IF($E19="","",ROUND($E19*$F19,2)) | N19: =IF($E19="","",SUM(H19:M19)) | O19: =IF($E19="","",$E19-N19) | P19: =IF($E19="","",ROUND(N19*$F19,2)) | Q19: =IF(INDEX($H19:$M19,1,'Акт КБ-2в'!$C$3)<>0,MAX(Q$9:Q18)+1,"")
A20: =IF($E20="","",ROW()-9) | G20: =IF($E20="","",ROUND($E20*$F20,2)) | N20: =IF($E20="","",SUM(H20:M20)) | O20: =IF($E20="","",$E20-N20) | P20: =IF($E20="","",ROUND(N20*$F20,2)) | Q20: =IF(INDEX($H20:$M20,1,'Акт КБ-2в'!$C$3)<>0,MAX(Q$9:Q19)+1,"")
A21: =IF($E21="","",ROW()-9) | G21: =IF($E21="","",ROUND($E21*$F21,2)) | N21: =IF($E21="","",SUM(H21:M21)) | O21: =IF($E21="","",$E21-N21) | P21: =IF($E21="","",ROUND(N21*$F21,2)) | Q21: =IF(INDEX($H21:$M21,1,'Акт КБ-2в'!$C$3)<>0,MAX(Q$9:Q20)+1,"")
A22: =IF($E22="","",ROW()-9) | G22: =IF($E22="","",ROUND($E22*$F22,2)) | N22: =IF($E22="","",SUM(H22:M22)) | O22: =IF($E22="","",$E22-N22) | P22: =IF($E22="","",ROUND(N22*$F22,2)) | Q22: =IF(INDEX($H22:$M22,1,'Акт КБ-2в'!$C$3)<>0,MAX(Q$9:Q21)+1,"")
A23: =IF($E23="","",ROW()-9) | G23: =IF($E23="","",ROUND($E23*$F23,2)) | N23: =IF($E23="","",SUM(H23:M23)) | O23: =IF($E23="","",$E23-N23) | P23: =IF($E23="","",ROUND(N23*$F23,2)) | Q23: =IF(INDEX($H23:$M23,1,'Акт КБ-2в'!$C$3)<>0,MAX(Q$9:Q22)+1,"")
A24: =IF($E24="","",ROW()-9) | G24: =IF($E24="","",ROUND($E24*$F24,2)) | N24: =IF($E24="","",SUM(H24:M24)) | O24: =IF($E24="","",$E24-N24) | P24: =IF($E24="","",ROUND(N24*$F24,2)) | Q24: =IF(INDEX($H24:$M24,1,'Акт КБ-2в'!$C$3)<>0,MAX(Q$9:Q23)+1,"")
A25: =IF($E25="","",ROW()-9) | G25: =IF($E25="","",ROUND($E25*$F25,2)) | N25: =IF($E25="","",SUM(H25:M25)) | O25: =IF($E25="","",$E25-N25) | P25: =IF($E25="","",ROUND(N25*$F25,2)) | Q25: =IF(INDEX($H25:$M25,1,'Акт КБ-2в'!$C$3)<>0,MAX(Q$9:Q24)+1,"")
... A29: =IF($E29="","",ROW()-9) | G29: =IF($E29="","",ROUND($E29*$F29,2)) | N29: =IF($E29="","",SUM(H29:M29)) | O29: =IF($E29="","",$E29-N29) | P29: =IF($E29="","",ROUND(N29*$F29,2)) | Q29: =IF(INDEX($H29:$M29,1,'Акт КБ-2в'!$C$3)<>0,MAX(Q$9:Q28)+1,"")
B30: Разом, грн без ПДВ | G30: =SUM(G10:G29) -> 1285700 | H30: =SUMPRODUCT(ROUND($F$10:$F$29*H$10:H$29,2)) -> 356000 | I30: =SUMPRODUCT(ROUND($F$10:$F$29*I$10:I$29,2)) -> 451500 | J30: =SUMPRODUCT(ROUND($F$10:$F$29*J$10:J$29,2)) -> 309750 | K30: =SUMPRODUCT(ROUND($F$10:$F$29*K$10:K$29,2)) -> 0 | L30: =SUMPRODUCT(ROUND($F$10:$F$29*L$10:L$29,2)) -> 0 | M30: =SUMPRODUCT(ROUND($F$10:$F$29*M$10:M$29,2)) -> 0 | P30: =SUM(P10:P29) -> 1117250

Sheet Акт КБ-2в
A1: Акт приймання виконаних будівельних робіт
A2: ="за "&INDEX(Договір!$H$8:$M$8,$C$3) -> за жовтень 2026
B3: Номер акта (від 1 до 6): | C3: 3
B4: Замовник: | C4: =Договір!C3 -> ТОВ «Замовник»
B5: Підрядник: | C5: =Договір!C4 -> ТОВ «Підрядник»
B6: Об'єкт: | C6: =Договір!C5 -> Житловий будинок, вул. Прикладна, 1
B7: Договір: | C7: =Договір!C6 -> № 1 від 01.08.2026
A9: № з/п | B9: Найменування робіт і витрат | C9: Обґрунтування (шифр і № позиції нормативу) | D9: Одиниця виміру | E9: Кількість | F9: Поточна ціна одиниці виміру, грн | G9: Виконано робіт (витрати), грн
A10: =IF($I10="","",ROWS(I$10:I10)) -> 1 | B10: =IF($I10="","",INDEX(Договір!$B$10:$B$29,$I10)) -> Мурування стін із газобетонних блоків | C10: =IF($I10="","",INDEX(Договір!$C$10:$C$29,$I10)&"") | D10: =IF($I10="","",INDEX(Договір!$D$10:$D$29,$I10)&"") -> м³ | E10: =IF($I10="","",INDEX(Договір!$H$10:$M$29,$I10,$C$3)) -> 20 | F10: =IF($I10="","",INDEX(Договір!$F$10:$F$29,$I10)) -> 5400 | G10: =IF($I10="","",ROUND(E10*F10,2)) -> 108000 | I10: =IFERROR(MATCH(ROWS(I$10:I10),Договір!$Q$10:$Q$29,0),"") -> 1
A11: =IF($I11="","",ROWS(I$10:I11)) -> 2 | B11: =IF($I11="","",INDEX(Договір!$B$10:$B$29,$I11)) -> Штукатурка стін машинна | C11: =IF($I11="","",INDEX(Договір!$C$10:$C$29,$I11)&"") | D11: =IF($I11="","",INDEX(Договір!$D$10:$D$29,$I11)&"") -> м² | E11: =IF($I11="","",INDEX(Договір!$H$10:$M$29,$I11,$C$3)) -> 300 | F11: =IF($I11="","",INDEX(Договір!$F$10:$F$29,$I11)) -> 280 | G11: =IF($I11="","",ROUND(E11*F11,2)) -> 84000 | I11: =IFERROR(MATCH(ROWS(I$10:I11),Договір!$Q$10:$Q$29,0),"") -> 2
A12: =IF($I12="","",ROWS(I$10:I12)) -> 3 | B12: =IF($I12="","",INDEX(Договір!$B$10:$B$29,$I12)) -> Стяжка підлоги | C12: =IF($I12="","",INDEX(Договір!$C$10:$C$29,$I12)&"") | D12: =IF($I12="","",INDEX(Договір!$D$10:$D$29,$I12)&"") -> м² | E12: =IF($I12="","",INDEX(Договір!$H$10:$M$29,$I12,$C$3)) -> 200 | F12: =IF($I12="","",INDEX(Договір!$F$10:$F$29,$I12)) -> 370 | G12: =IF($I12="","",ROUND(E12*F12,2)) -> 74000 | I12: =IFERROR(MATCH(ROWS(I$10:I12),Договір!$Q$10:$Q$29,0),"") -> 3
A13: =IF($I13="","",ROWS(I$10:I13)) -> 4 | B13: =IF($I13="","",INDEX(Договір!$B$10:$B$29,$I13)) -> Фарбування стін | C13: =IF($I13="","",INDEX(Договір!$C$10:$C$29,$I13)&"") | D13: =IF($I13="","",INDEX(Договір!$D$10:$D$29,$I13)&"") -> м² | E13: =IF($I13="","",INDEX(Договір!$H$10:$M$29,$I13,$C$3)) -> 350 | F13: =IF($I13="","",INDEX(Договір!$F$10:$F$29,$I13)) -> 125 | G13: =IF($I13="","",ROUND(E13*F13,2)) -> 43750 | I13: =IFERROR(MATCH(ROWS(I$10:I13),Договір!$Q$10:$Q$29,0),"") -> 4
A14: =IF($I14="","",ROWS(I$10:I14)) | B14: =IF($I14="","",INDEX(Договір!$B$10:$B$29,$I14)) | C14: =IF($I14="","",INDEX(Договір!$C$10:$C$29,$I14)&"") | D14: =IF($I14="","",INDEX(Договір!$D$10:$D$29,$I14)&"") | E14: =IF($I14="","",INDEX(Договір!$H$10:$M$29,$I14,$C$3)) | F14: =IF($I14="","",INDEX(Договір!$F$10:$F$29,$I14)) | G14: =IF($I14="","",ROUND(E14*F14,2)) | I14: =IFERROR(MATCH(ROWS(I$10:I14),Договір!$Q$10:$Q$29,0),"")
A15: =IF($I15="","",ROWS(I$10:I15)) | B15: =IF($I15="","",INDEX(Договір!$B$10:$B$29,$I15)) | C15: =IF($I15="","",INDEX(Договір!$C$10:$C$29,$I15)&"") | D15: =IF($I15="","",INDEX(Договір!$D$10:$D$29,$I15)&"") | E15: =IF($I15="","",INDEX(Договір!$H$10:$M$29,$I15,$C$3)) | F15: =IF($I15="","",INDEX(Договір!$F$10:$F$29,$I15)) | G15: =IF($I15="","",ROUND(E15*F15,2)) | I15: =IFERROR(MATCH(ROWS(I$10:I15),Договір!$Q$10:$Q$29,0),"")
A16: =IF($I16="","",ROWS(I$10:I16)) | B16: =IF($I16="","",INDEX(Договір!$B$10:$B$29,$I16)) | C16: =IF($I16="","",INDEX(Договір!$C$10:$C$29,$I16)&"") | D16: =IF($I16="","",INDEX(Договір!$D$10:$D$29,$I16)&"") | E16: =IF($I16="","",INDEX(Договір!$H$10:$M$29,$I16,$C$3)) | F16: =IF($I16="","",INDEX(Договір!$F$10:$F$29,$I16)) | G16: =IF($I16="","",ROUND(E16*F16,2)) | I16: =IFERROR(MATCH(ROWS(I$10:I16),Договір!$Q$10:$Q$29,0),"")
A17: =IF($I17="","",ROWS(I$10:I17)) | B17: =IF($I17="","",INDEX(Договір!$B$10:$B$29,$I17)) | C17: =IF($I17="","",INDEX(Договір!$C$10:$C$29,$I17)&"") | D17: =IF($I17="","",INDEX(Договір!$D$10:$D$29,$I17)&"") | E17: =IF($I17="","",INDEX(Договір!$H$10:$M$29,$I17,$C$3)) | F17: =IF($I17="","",INDEX(Договір!$F$10:$F$29,$I17)) | G17: =IF($I17="","",ROUND(E17*F17,2)) | I17: =IFERROR(MATCH(ROWS(I$10:I17),Договір!$Q$10:$Q$29,0),"")
A18: =IF($I18="","",ROWS(I$10:I18)) | B18: =IF($I18="","",INDEX(Договір!$B$10:$B$29,$I18)) | C18: =IF($I18="","",INDEX(Договір!$C$10:$C$29,$I18)&"") | D18: =IF($I18="","",INDEX(Договір!$D$10:$D$29,$I18)&"") | E18: =IF($I18="","",INDEX(Договір!$H$10:$M$29,$I18,$C$3)) | F18: =IF($I18="","",INDEX(Договір!$F$10:$F$29,$I18)) | G18: =IF($I18="","",ROUND(E18*F18,2)) | I18: =IFERROR(MATCH(ROWS(I$10:I18),Договір!$Q$10:$Q$29,0),"")
A19: =IF($I19="","",ROWS(I$10:I19)) | B19: =IF($I19="","",INDEX(Договір!$B$10:$B$29,$I19)) | C19: =IF($I19="","",INDEX(Договір!$C$10:$C$29,$I19)&"") | D19: =IF($I19="","",INDEX(Договір!$D$10:$D$29,$I19)&"") | E19: =IF($I19="","",INDEX(Договір!$H$10:$M$29,$I19,$C$3)) | F19: =IF($I19="","",INDEX(Договір!$F$10:$F$29,$I19)) | G19: =IF($I19="","",ROUND(E19*F19,2)) | I19: =IFERROR(MATCH(ROWS(I$10:I19),Договір!$Q$10:$Q$29,0),"")
A20: =IF($I20="","",ROWS(I$10:I20)) | B20: =IF($I20="","",INDEX(Договір!$B$10:$B$29,$I20)) | C20: =IF($I20="","",INDEX(Договір!$C$10:$C$29,$I20)&"") | D20: =IF($I20="","",INDEX(Договір!$D$10:$D$29,$I20)&"") | E20: =IF($I20="","",INDEX(Договір!$H$10:$M$29,$I20,$C$3)) | F20: =IF($I20="","",INDEX(Договір!$F$10:$F$29,$I20)) | G20: =IF($I20="","",ROUND(E20*F20,2)) | I20: =IFERROR(MATCH(ROWS(I$10:I20),Договір!$Q$10:$Q$29,0),"")
A21: =IF($I21="","",ROWS(I$10:I21)) | B21: =IF($I21="","",INDEX(Договір!$B$10:$B$29,$I21)) | C21: =IF($I21="","",INDEX(Договір!$C$10:$C$29,$I21)&"") | D21: =IF($I21="","",INDEX(Договір!$D$10:$D$29,$I21)&"") | E21: =IF($I21="","",INDEX(Договір!$H$10:$M$29,$I21,$C$3)) | F21: =IF($I21="","",INDEX(Договір!$F$10:$F$29,$I21)) | G21: =IF($I21="","",ROUND(E21*F21,2)) | I21: =IFERROR(MATCH(ROWS(I$10:I21),Договір!$Q$10:$Q$29,0),"")
... A29: =IF($I29="","",ROWS(I$10:I29)) | B29: =IF($I29="","",INDEX(Договір!$B$10:$B$29,$I29)) | C29: =IF($I29="","",INDEX(Договір!$C$10:$C$29,$I29)&"") | D29: =IF($I29="","",INDEX(Договір!$D$10:$D$29,$I29)&"") | E29: =IF($I29="","",INDEX(Договір!$H$10:$M$29,$I29,$C$3)) | F29: =IF($I29="","",INDEX(Договір!$F$10:$F$29,$I29)) | G29: =IF($I29="","",ROUND(E29*F29,2)) | I29: =IFERROR(MATCH(ROWS(I$10:I29),Договір!$Q$10:$Q$29,0),"")
B30: Разом без ПДВ | G30: =SUM(G10:G29) -> 309750
B31: ПДВ | G31: =ROUND(G30*Договір!$C$7/100,2) -> 61950
B32: Усього з ПДВ | G32: =G30+G31 -> 371700
B34: Здав (підрядник): ____________________ | D34: Прийняв (замовник): ____________________
A36: Шаблон від єКабінету для будівництва · ekabi.net

Sheet Довідка КБ-3
A1: Довідка про вартість виконаних будівельних робіт та витрати
A2: ="за "&INDEX(Договір!$H$8:$M$8,'Акт КБ-2в'!$C$3)&" (акт № "&'Акт КБ-2в'!$C$3&")" -> за жовтень 2026 (акт № 3)
B3: Замовник: | C3: =Договір!C3 -> ТОВ «Замовник»
B4: Підрядник: | C4: =Договір!C4 -> ТОВ «Підрядник»
B5: Договір: | C5: =Договір!C6 -> № 1 від 01.08.2026
A7: № з/п | B7: Найменування об'єктів, видів робіт і витрат | C7: Вартість за договірною ціною, грн без ПДВ | D7: Виконано з початку будівництва, грн без ПДВ | E7: у т.ч. за звітний період, грн без ПДВ
A8: 1 | B8: =Договір!C5 -> Житловий будинок, вул. Прикладна, 1 | C8: =Договір!G30 -> 1285700 | D8: =SUM(Договір!$H$30:INDEX(Договір!$H$30:$M$30,'Акт КБ-2в'!$C$3)) -> 1117250 | E8: =INDEX(Договір!$H$30:$M$30,'Акт КБ-2в'!$C$3) -> 309750
B9: Разом без ПДВ | C9: =C8 -> 1285700 | D9: =D8 -> 1117250 | E9: =E8 -> 309750
B10: ПДВ | C10: =ROUND(C9*Договір!$C$7/100,2) -> 257140 | D10: =ROUND(D9*Договір!$C$7/100,2) -> 223450 | E10: =ROUND(E9*Договір!$C$7/100,2) -> 61950
B11: Усього з ПДВ | C11: =C9+C10 -> 1542840 | D11: =D9+D10 -> 1340700 | E11: =E9+E10 -> 371700
B12: Лишилось виконати за договором, грн без ПДВ | C12: =C9-D9 -> 168450
B14: Здав (підрядник): ____________________ | D14: Прийняв (замовник): ____________________
A16: Шаблон від єКабінету для будівництва · ekabi.net

Sheet Як користуватися
A1: Як користуватися
A3: 1. На аркуші «Договір» заповніть сторони й позиції договірної ціни: кількість і ціну. Вільних рядків 20.
A4: 2. Щомісяця вписуйте обсяг у стовпець свого акта й період над ним. Стовпець «Залишок» показує, скільки ще можна закрити; від'ємний залишок стає червоним: заактовано більше, ніж у договорі.
A5: 3. На аркуші «Акт КБ-2в» виберіть номер акта. Акт покаже лише позиції цього місяця, а «Довідка КБ-3» порахує суму за період і наростаючий підсумок.
A6: Шаблон спрощений: тут немає граф про заробітну плату, машини й витрати праці, а довідка показує одним рядком весь об'єкт.
A7: Якщо об'єкт будують за бюджетні кошти, кошти державних чи комунальних підприємств або кредити під державні гарантії, діє Настанова з визначення вартості будівництва (наказ № 281 від 01.11.2021): бланки беріть із її додатків 36 і 37 у чинній редакції. В інших випадках форму визначає договір.
A9: Коли таблиці стане замало: у єКабінеті те саме рахується саме, у браузері, і один документ веде від кошторису до акта й маржі.
A10: Шаблон від єКабінету для будівництва · ekabi.net
